BEGIN:VCALENDAR
VERSION:2.0
PRODID:-//Ecole de Musique du Chesnay-Rocquencourt - ECPv6.15.20//NONSGML v1.0//EN
CALSCALE:GREGORIAN
METHOD:PUBLISH
X-ORIGINAL-URL:https://www.ecole-musique-chesnay.com
X-WR-CALDESC:Évènements pour Ecole de Musique du Chesnay-Rocquencourt
REFRESH-INTERVAL;VALUE=DURATION:PT1H
X-Robots-Tag:noindex
X-PUBLISHED-TTL:PT1H
BEGIN:VTIMEZONE
TZID:Europe/Paris
BEGIN:DAYLIGHT
TZOFFSETFROM:+0100
TZOFFSETTO:+0200
TZNAME:CEST
DTSTART:20240331T010000
END:DAYLIGHT
BEGIN:STANDARD
TZOFFSETFROM:+0200
TZOFFSETTO:+0100
TZNAME:CET
DTSTART:20241027T010000
END:STANDARD
BEGIN:DAYLIGHT
TZOFFSETFROM:+0100
TZOFFSETTO:+0200
TZNAME:CEST
DTSTART:20250330T010000
END:DAYLIGHT
BEGIN:STANDARD
TZOFFSETFROM:+0200
TZOFFSETTO:+0100
TZNAME:CET
DTSTART:20251026T010000
END:STANDARD
BEGIN:DAYLIGHT
TZOFFSETFROM:+0100
TZOFFSETTO:+0200
TZNAME:CEST
DTSTART:20260329T010000
END:DAYLIGHT
BEGIN:STANDARD
TZOFFSETFROM:+0200
TZOFFSETTO:+0100
TZNAME:CET
DTSTART:20261025T010000
END:STANDARD
END:VTIMEZONE
BEGIN:VEVENT
DTSTART;TZID=Europe/Paris:20251012T180000
DTEND;TZID=Europe/Paris:20251012T180000
DTSTAMP:20260420T021355
CREATED:20250923T133734Z
LAST-MODIFIED:20250923T140355Z
UID:4215-1760292000-1760292000@www.ecole-musique-chesnay.com
SUMMARY:HEURE MUSICALE / Dimanche du Violoncelle 1
DESCRIPTION:« Dimanche du Violoncelle » 1\nMaîtres et élèves\, la musique en héritage : César Franck\, Henri Duparc\, Jean Cras\navec Bertrand Malmasson\, Violoncelle & Nicolas Mallarte\, Piano
URL:https://www.ecole-musique-chesnay.com/event/heure-musicale-dimanche-du-violoncelle-1-2025/
LOCATION:Auditorium de l’Ecole de Musique du Chesnay-Rocquencourt\, 7 avenue Dutartre\, Le Chesnay\, 78150\, France
CATEGORIES:HEURE MUSICALE
ATTACH;FMTTYPE=image/jpeg:https://www.ecole-musique-chesnay.com/wp-content/uploads/2025-10-12-DDV1-w.jpg
ORGANIZER;CN="Ecole de Musique du Chesnay-Rocquencourt":MAILTO:www.emcr.fr
END:VEVENT
END:VCALENDAR