BEGIN:VCALENDAR
VERSION:2.0
PRODID:-//Ecole de Musique du Chesnay-Rocquencourt - ECPv6.15.20//NONSGML v1.0//EN
CALSCALE:GREGORIAN
METHOD:PUBLISH
X-WR-CALNAME:Ecole de Musique du Chesnay-Rocquencourt
X-ORIGINAL-URL:https://www.ecole-musique-chesnay.com
X-WR-CALDESC:Évènements pour Ecole de Musique du Chesnay-Rocquencourt
REFRESH-INTERVAL;VALUE=DURATION:PT1H
X-Robots-Tag:noindex
X-PUBLISHED-TTL:PT1H
BEGIN:VTIMEZONE
TZID:Europe/Paris
BEGIN:DAYLIGHT
TZOFFSETFROM:+0100
TZOFFSETTO:+0200
TZNAME:CEST
DTSTART:20250330T010000
END:DAYLIGHT
BEGIN:STANDARD
TZOFFSETFROM:+0200
TZOFFSETTO:+0100
TZNAME:CET
DTSTART:20251026T010000
END:STANDARD
BEGIN:DAYLIGHT
TZOFFSETFROM:+0100
TZOFFSETTO:+0200
TZNAME:CEST
DTSTART:20260329T010000
END:DAYLIGHT
BEGIN:STANDARD
TZOFFSETFROM:+0200
TZOFFSETTO:+0100
TZNAME:CET
DTSTART:20261025T010000
END:STANDARD
BEGIN:DAYLIGHT
TZOFFSETFROM:+0100
TZOFFSETTO:+0200
TZNAME:CEST
DTSTART:20270328T010000
END:DAYLIGHT
BEGIN:STANDARD
TZOFFSETFROM:+0200
TZOFFSETTO:+0100
TZNAME:CET
DTSTART:20271031T010000
END:STANDARD
END:VTIMEZONE
BEGIN:VEVENT
DTSTART;TZID=Europe/Paris:20260607T180000
DTEND;TZID=Europe/Paris:20260607T180000
DTSTAMP:20260419T223754
CREATED:20250923T152629Z
LAST-MODIFIED:20250923T152629Z
UID:4240-1780855200-1780855200@www.ecole-musique-chesnay.com
SUMMARY:HEURE MUSICALE / Dimanche du Violoncelle 4
DESCRIPTION:« Dimanche du Violoncelle » 4\nQuatuor et quintette avec Piano\n— Mozart\, Franck\navec Laurence Disse au Piano\, Sakia Lethiec et Mireille Jullien au Violons\, Jean-Yves Convert à l’Alto & Bertrand Malmasson au Violoncelle \n 
URL:https://www.ecole-musique-chesnay.com/event/heure-musicale-dimanche-du-violoncelle-4-2/
LOCATION:Auditorium de l’Ecole de Musique du Chesnay-Rocquencourt\, 7 avenue Dutartre\, Le Chesnay\, 78150\, France
CATEGORIES:HEURE MUSICALE
ORGANIZER;CN="Ecole de Musique du Chesnay-Rocquencourt":MAILTO:www.emcr.fr
END:VEVENT
BEGIN:VEVENT
DTSTART;TZID=Europe/Paris:20260628T180000
DTEND;TZID=Europe/Paris:20260628T180000
DTSTAMP:20260419T223754
CREATED:20250923T152721Z
LAST-MODIFIED:20250923T152743Z
UID:4242-1782669600-1782669600@www.ecole-musique-chesnay.com
SUMMARY:HEURE MUSICALE / Musique Folk & Bal Trad
DESCRIPTION:Musique Folk & Bal Trad avec Melting Folk : groupe néo-trad au métissage musical sans frontière\, \nautour de Gaëlle Dos Santos\, Accordéon diatonique \n 
URL:https://www.ecole-musique-chesnay.com/event/heure-musicale-musique-folk-bal-trad/
LOCATION:Auditorium de l’Ecole de Musique du Chesnay-Rocquencourt\, 7 avenue Dutartre\, Le Chesnay\, 78150\, France
CATEGORIES:HEURE MUSICALE
ORGANIZER;CN="Ecole de Musique du Chesnay-Rocquencourt":MAILTO:www.emcr.fr
END:VEVENT
END:VCALENDAR