BEGIN:VCALENDAR
VERSION:2.0
PRODID:-//Ecole de Musique du Chesnay-Rocquencourt - ECPv6.15.20//NONSGML v1.0//EN
CALSCALE:GREGORIAN
METHOD:PUBLISH
X-WR-CALNAME:Ecole de Musique du Chesnay-Rocquencourt
X-ORIGINAL-URL:https://www.ecole-musique-chesnay.com
X-WR-CALDESC:Évènements pour Ecole de Musique du Chesnay-Rocquencourt
REFRESH-INTERVAL;VALUE=DURATION:PT1H
X-Robots-Tag:noindex
X-PUBLISHED-TTL:PT1H
BEGIN:VTIMEZONE
TZID:Europe/Paris
BEGIN:DAYLIGHT
TZOFFSETFROM:+0100
TZOFFSETTO:+0200
TZNAME:CEST
DTSTART:20240331T010000
END:DAYLIGHT
BEGIN:STANDARD
TZOFFSETFROM:+0200
TZOFFSETTO:+0100
TZNAME:CET
DTSTART:20241027T010000
END:STANDARD
BEGIN:DAYLIGHT
TZOFFSETFROM:+0100
TZOFFSETTO:+0200
TZNAME:CEST
DTSTART:20250330T010000
END:DAYLIGHT
BEGIN:STANDARD
TZOFFSETFROM:+0200
TZOFFSETTO:+0100
TZNAME:CET
DTSTART:20251026T010000
END:STANDARD
BEGIN:DAYLIGHT
TZOFFSETFROM:+0100
TZOFFSETTO:+0200
TZNAME:CEST
DTSTART:20260329T010000
END:DAYLIGHT
BEGIN:STANDARD
TZOFFSETFROM:+0200
TZOFFSETTO:+0100
TZNAME:CET
DTSTART:20261025T010000
END:STANDARD
END:VTIMEZONE
BEGIN:VEVENT
DTSTART;TZID=Europe/Paris:20251214T180000
DTEND;TZID=Europe/Paris:20251214T180000
DTSTAMP:20260420T003107
CREATED:20250923T141337Z
LAST-MODIFIED:20251117T145828Z
UID:4222-1765735200-1765735200@www.ecole-musique-chesnay.com
SUMMARY:HEURE MUSICALE / Récital Saxophones & Piano
DESCRIPTION:« Escapade Romantique »\, Récital Saxophones & Piano\navec Paul Girard & Ricardo Jasso\, Saxophones\, et Louise Léger\, Piano
URL:https://www.ecole-musique-chesnay.com/event/heure-musicale-recital-saxophones-piano/
LOCATION:Auditorium de l’Ecole de Musique du Chesnay-Rocquencourt\, 7 avenue Dutartre\, Le Chesnay\, 78150\, France
CATEGORIES:HEURE MUSICALE
ATTACH;FMTTYPE=image/jpeg:https://www.ecole-musique-chesnay.com/wp-content/uploads/2025-12-14-HM-Paul-w-1.jpg
ORGANIZER;CN="Ecole de Musique du Chesnay-Rocquencourt":MAILTO:www.emcr.fr
END:VEVENT
END:VCALENDAR